BEGIN:VCALENDAR
VERSION:2.0
PRODID:gruene-waghaeusel.com
METHOD:PUBLISH
BEGIN:VTIMEZONE
TZID:Europe/Berlin
X-LIC-LOCATION:Europe/Berlin
BEGIN:DAYLIGHT
TZOFFSETFROM:+0100
TZOFFSETTO:+0200
TZNAME:CEST
DTSTART:19700329T020000
RRULE:FREQ=YEARLY;INTERVAL=1;BYDAY=-1SU;BYMONTH=3
END:DAYLIGHT
BEGIN:STANDARD
TZOFFSETFROM:+0200
TZOFFSETTO:+0100
TZNAME:CET
DTSTART:19701025T030000
RRULE:FREQ=YEARLY;INTERVAL=1;BYDAY=-1SU;BYMONTH=10
END:STANDARD
END:VTIMEZONE
BEGIN:VEVENT
UID:d3970ccec0670236a5f227b1addfe74c@gruene-waghaeusel.com
URL;VALUE=URI:https://gruene-waghaeusel.com/termine/trefft-beim-gartenein
 satz-unsere-kandidierenden/
LOCATION:Essbarer Garten, Johann-Sebastian-Bach-Straße 9, Waghäusel (Wi
 esental)
SUMMARY:Trefft beim Garteneinsatz unsere Kandidierenden
DESCRIPTION;ALTREP="data:text/html,%0A%3Cp%3EStellt%20beim%20anschlie%C3%
 9Fenden%20gemeinsamen%20Fr%C3%BChst%C3%BCck%20eure%20Fragen%20zum%20Team%
 20oder%20unseren%20Themen%20f%C3%BCr%20Wagh%C3%A4usel%21%3C%2Fp%3E%0A":St
 ellt beim anschließenden gemeinsamen Frühstück eure Fragen zum Team od
 er unseren Themen für Waghäusel!
CLASS:PUBLIC
DTSTART;TZID=Europe/Berlin:20240525T093000
DTEND;TZID=Europe/Berlin:20240525T120000
DTSTAMP:20260420T171034
END:VEVENT
END:VCALENDAR