BEGIN:VCALENDAR
VERSION:2.0
PRODID:gruene-waghaeusel.com
METHOD:PUBLISH
BEGIN:VTIMEZONE
TZID:Europe/Berlin
X-LIC-LOCATION:Europe/Berlin
BEGIN:DAYLIGHT
TZOFFSETFROM:+0100
TZOFFSETTO:+0200
TZNAME:CEST
DTSTART:19700329T020000
RRULE:FREQ=YEARLY;INTERVAL=1;BYDAY=-1SU;BYMONTH=3
END:DAYLIGHT
BEGIN:STANDARD
TZOFFSETFROM:+0200
TZOFFSETTO:+0100
TZNAME:CET
DTSTART:19701025T030000
RRULE:FREQ=YEARLY;INTERVAL=1;BYDAY=-1SU;BYMONTH=10
END:STANDARD
END:VTIMEZONE
BEGIN:VEVENT
UID:57f01a57ee1e979029a5779802165d3c@gruene-waghaeusel.com
URL;VALUE=URI:https://gruene-waghaeusel.com/termine/hoffnungslauf-bruchsa
 l/
LOCATION:Bruchsal, 76 Bruchsal, Deutschland
SUMMARY:Hoffnungslauf Bruchsal
DESCRIPTION;ALTREP="data:text/html,%3Cp%3EStart%2015%3A30%20Uhr%3C%2Fp%3E
 ":Start 15:30 Uhr
CLASS:PUBLIC
DTSTART;TZID=Europe/Berlin:20260509T150000
DTEND;TZID=Europe/Berlin:20260509T190000
DTSTAMP:20260425T113916
END:VEVENT
END:VCALENDAR