BEGIN:VCALENDAR
VERSION:2.0
PRODID:gruene-waghaeusel.com
METHOD:PUBLISH
BEGIN:VTIMEZONE
TZID:Europe/Berlin
X-LIC-LOCATION:Europe/Berlin
BEGIN:DAYLIGHT
TZOFFSETFROM:+0100
TZOFFSETTO:+0200
TZNAME:CEST
DTSTART:19700329T020000
RRULE:FREQ=YEARLY;INTERVAL=1;BYDAY=-1SU;BYMONTH=3
END:DAYLIGHT
BEGIN:STANDARD
TZOFFSETFROM:+0200
TZOFFSETTO:+0100
TZNAME:CET
DTSTART:19701025T030000
RRULE:FREQ=YEARLY;INTERVAL=1;BYDAY=-1SU;BYMONTH=10
END:STANDARD
END:VTIMEZONE
BEGIN:VEVENT
UID:ae1165976c537d2aa0bd1e07f51f3645@gruene-waghaeusel.com
URL;VALUE=URI:https://gruene-waghaeusel.com/termine/bahnprojekt-mannheim-
 karlsruhe-austausch-und-diskussion/
LOCATION:Essbarer Garten, Johann-Sebastian-Bach-Str. 9, Waghäusel
SUMMARY:Bahnprojekt Mannheim-Karlsruhe – Austausch und Diskussion
DESCRIPTION;ALTREP="data:text/html,":
CLASS:PUBLIC
DTSTART;TZID=Europe/Berlin:20240327T170000
DTEND;TZID=Europe/Berlin:20240327T180000
DTSTAMP:20260421T081448
END:VEVENT
END:VCALENDAR